BEGIN:VCALENDAR
VERSION:2.0
PRODID:-//Deutsch-Englische Gesellschaft Bayreuth e.V. - ECPv6.15.20//NONSGML v1.0//EN
CALSCALE:GREGORIAN
METHOD:PUBLISH
X-WR-CALNAME:Deutsch-Englische Gesellschaft Bayreuth e.V.
X-ORIGINAL-URL:http://deg-bayreuth.com
X-WR-CALDESC:Veranstaltungen für Deutsch-Englische Gesellschaft Bayreuth e.V.
REFRESH-INTERVAL;VALUE=DURATION:PT1H
X-Robots-Tag:noindex
X-PUBLISHED-TTL:PT1H
BEGIN:VTIMEZONE
TZID:UTC
BEGIN:STANDARD
TZOFFSETFROM:+0000
TZOFFSETTO:+0000
TZNAME:UTC
DTSTART:20250101T000000
END:STANDARD
END:VTIMEZONE
BEGIN:VEVENT
DTSTART;TZID=UTC:20260224T183000
DTEND;TZID=UTC:20260224T200000
DTSTAMP:20260419T191316
CREATED:20260121T155837Z
LAST-MODIFIED:20260121T155837Z
UID:756-1771957800-1771963200@deg-bayreuth.com
SUMMARY:DEG Book Club February
DESCRIPTION:In the DEG Book Club’s September meeting we will discuss our latest pick from our November session of last year and choose the next read! Come join us\, when we discuss what we are going to read next! Non-members are welcome! \nIn our last session we chose ’s Book Club session we chose “The Road to Little Dribbling. – more notes from a small island” by Bill Bryson. \nThe Road to Little Dribbling is Bill Bryson’s humorous travelogue revisiting Britain decades after his earlier journeys\, blending affectionate observation with sharp wit as he wanders through cities\, villages\, and countryside. Along the way\, he reflects on social change\, history\, and British quirks\, celebrating the nation’s charm while poking fun at its absurdities. \nJoin us for our next session even if you haven’t read the book!
URL:http://deg-bayreuth.com/event/deg-book-club-february/
LOCATION:Bürgerbegegnungsstätte Bayreuth\, Am Sendelbach 1\, Bayreuth\, 95445\, Germany
CATEGORIES:book Club
ATTACH;FMTTYPE=image/png:http://deg-bayreuth.com/wp-content/uploads/2025/02/Kopie-von-DEG-1200-x-1200-px1.png
END:VEVENT
END:VCALENDAR