BEGIN:VCALENDAR
VERSION:2.0
PRODID:-//Deutsch-Englische Gesellschaft Bayreuth e.V. - ECPv6.15.20//NONSGML v1.0//EN
CALSCALE:GREGORIAN
METHOD:PUBLISH
X-ORIGINAL-URL:http://deg-bayreuth.com
X-WR-CALDESC:Veranstaltungen für Deutsch-Englische Gesellschaft Bayreuth e.V.
REFRESH-INTERVAL;VALUE=DURATION:PT1H
X-Robots-Tag:noindex
X-PUBLISHED-TTL:PT1H
BEGIN:VTIMEZONE
TZID:UTC
BEGIN:STANDARD
TZOFFSETFROM:+0000
TZOFFSETTO:+0000
TZNAME:UTC
DTSTART:20240101T000000
END:STANDARD
END:VTIMEZONE
BEGIN:VEVENT
DTSTART;TZID=UTC:20250311T183000
DTEND;TZID=UTC:20250311T203000
DTSTAMP:20260420T071927
CREATED:20250221T171712Z
LAST-MODIFIED:20250223T134801Z
UID:396-1741717800-1741725000@deg-bayreuth.com
SUMMARY:Book Club Meeting March
DESCRIPTION:In the DEG Book Club’s March meeting we will discuss our latest pick “Going Zero” by Anthony McCarten and choose the next read! Come join us\, when we discuss what we are going to read next! Non-members are welcome!
URL:http://deg-bayreuth.com/event/book-club-meeting/
LOCATION:Bürgerbegegnungsstätte Bayreuth\, Am Sendelbach 1\, Bayreuth\, 95445\, Germany
CATEGORIES:book Club
ATTACH;FMTTYPE=image/png:http://deg-bayreuth.com/wp-content/uploads/2025/02/Kopie-von-DEG-1200-x-1200-px1.png
END:VEVENT
END:VCALENDAR