BEGIN:VCALENDAR
VERSION:2.0
PRODID:-//Deutsch-Englische Gesellschaft Bayreuth e.V. - ECPv6.15.20//NONSGML v1.0//EN
CALSCALE:GREGORIAN
METHOD:PUBLISH
X-WR-CALNAME:Deutsch-Englische Gesellschaft Bayreuth e.V.
X-ORIGINAL-URL:http://deg-bayreuth.com
X-WR-CALDESC:Veranstaltungen für Deutsch-Englische Gesellschaft Bayreuth e.V.
REFRESH-INTERVAL;VALUE=DURATION:PT1H
X-Robots-Tag:noindex
X-PUBLISHED-TTL:PT1H
BEGIN:VTIMEZONE
TZID:UTC
BEGIN:STANDARD
TZOFFSETFROM:+0000
TZOFFSETTO:+0000
TZNAME:UTC
DTSTART:20240101T000000
END:STANDARD
END:VTIMEZONE
BEGIN:VEVENT
DTSTART;TZID=UTC:20250502T190000
DTEND;TZID=UTC:20250502T213000
DTSTAMP:20260420T042611
CREATED:20250223T133324Z
LAST-MODIFIED:20250223T133324Z
UID:408-1746212400-1746221400@deg-bayreuth.com
SUMMARY:Social Evening May
DESCRIPTION:The DEG Bayreuth Social Evening is a networking event that brings together members and friends of the Deutsch-Englische Gesellschaft Bayreuth e.V. in a relaxed and friendly atmosphere. It provides an opportunity to engage in lively discussions\, share cultural experiences\, and strengthen international connections over drinks and food. Whether you’re a long-time member or a newcomer\, the evening offers a welcoming space to enjoy good company and enriching conversations. \nWe usually meet at Brauereischänke in the heart of Bayreuth’s city centre every first Friday of the month – please check the calendar for possible changes. Join us!
URL:http://deg-bayreuth.com/event/social-evening-may/
LOCATION:Brauereischänke am Markt\, Bayreuth\, Maximilianstraße 56\, Bayreuth\, Bayern\, 95444\, Germany
ATTACH;FMTTYPE=image/png:http://deg-bayreuth.com/wp-content/uploads/2025/02/instagram-post-foto-zitat.png
END:VEVENT
BEGIN:VEVENT
DTSTART;TZID=UTC:20250510T150000
DTEND;TZID=UTC:20250510T173000
DTSTAMP:20260420T042611
CREATED:20250321T100822Z
LAST-MODIFIED:20250409T183435Z
UID:447-1746889200-1746898200@deg-bayreuth.com
SUMMARY:Teatime
DESCRIPTION:+++ Deutsch weiter unten ++++ \nJoin us for a relaxing and elegant Afternoon Tea\, filled with delicious treats\, delightful company\, and a cozy atmosphere in the beautiful Ladencafé 1717 in Pegnitz. \n📅 Date: 10 May 2025🕒 Time: 3 pm📍 Location: Ladencafé 1717\, Hauptstraße 12\, Pegnitz\n💰 Price: €24 per Person \nONLY LIMITED SEATS AVAILABLE SO PLEASE RSVP (info@deg-bayreuth.com) as soon as possible. This is a DEG members only event! \nEnjoy a selection of fine teas\, scrumptious finger sandwiches\, freshly baked scones\, sweet treats and a glass of Prosecco as we unwind and catch up. Whether you’re a tea enthusiast or simply looking for a lovely way to spend the afternoon\, we’d love to see you there! \nWe can’t wait to sip and chat with you! 🌸✨ \n**** \nKommen Sie zu einem entspannten und eleganten Afternoon Tea mit köstlichen Leckereien\, netter Gesellschaft und einer gemütlichen Atmosphäre im schönen Ladencafé 1717 in Pegnitz. \n📅 Datum: 10. Mai 2025\n🕒 Uhrzeit: 15 Uhr\n📍 Ort: Ladencafé 1717\, Hauptstraße 12\, Pegnitz\n💰 Preis: 24 € pro Person \nNUR BEGRENZTE PLÄTZE SOFORT ANMELDEN (info@deg-bayreuth.com). Diese Veranstaltung ist exklusiv für DEG-Mitglieder! \nGenießen Sie eine Auswahl an feinen Teesorten\, leckeren Fingersandwiches\, frisch gebackenen Scones\, süßen Leckereien und einem Glas Prosecco\, während wir uns entspannen und austauschen. Egal\, ob Sie ein Teeliebhaber sind oder einfach nur einen schönen Nachmittag verbringen möchten\, wir würden uns freuen\, Sie dort zu sehen! \nWir können es kaum erwarten\, mit Ihnen zu plaudern und Tee zu trinken! 🌸✨
URL:http://deg-bayreuth.com/event/teatime/
CATEGORIES:Teatime
ATTACH;FMTTYPE=image/png:http://deg-bayreuth.com/wp-content/uploads/2025/03/Kopie-von-DEG-1200-x-1200-px2.png
END:VEVENT
BEGIN:VEVENT
DTSTART;TZID=UTC:20250520T183000
DTEND;TZID=UTC:20250520T203000
DTSTAMP:20260420T042611
CREATED:20250223T135312Z
LAST-MODIFIED:20250519T113024Z
UID:428-1747765800-1747773000@deg-bayreuth.com
SUMMARY:Book Club Meeting May
DESCRIPTION:In the DEG Book Club’s May meeting we will discuss our latest pick from our March session: “The Shipping News” by Pulitzer Prize winner Annie Proulx.  We will discuss the story and writing style\, present our favourite passages. And of course we will discuss what we are goint to read next! \nCome by even if you haven’t read the latest selection and help us pick the next one! No charge\, and DEG members as well as non-members are very welcome! \n*** \nIn der Mai-Sitzung des DEG-Buchclubs besprechen wir das Buch\, das wir in unserer  März-Sitzung ausgewählt haben: „The Shipping News“ von der Pulitzer-Preisträgerin Annie Proulx. Wir werden die Geschichte und den Schreibstil diskutieren und uns gegenseitig unsere Lieblingspassagen vorstellen. Und natürlich werden wir besprechen\, welches Buch wir als Nächstes lesen werden! \nKomm vorbei\, auch wenn du die letzte Lektüre noch nicht gelesen hast\, und hilf uns bei der Auswahl der nächsten Lektüre! Die Teilnahme ist kostenlos\, und DEG-Mitglieder und Nicht-Mitglieder sind herzlich willkommen! \n 
URL:http://deg-bayreuth.com/event/book-club-meeting-may/
LOCATION:Bürgerbegegnungsstätte Bayreuth\, Am Sendelbach 1\, Bayreuth\, 95445\, Germany
CATEGORIES:book Club
ATTACH;FMTTYPE=image/png:http://deg-bayreuth.com/wp-content/uploads/2025/02/Kopie-von-DEG-1200-x-1200-px1.png
END:VEVENT
END:VCALENDAR