BEGIN:VCALENDAR
VERSION:2.0
PRODID:-//Deutsch-Englische Gesellschaft Bayreuth e.V. - ECPv6.15.20//NONSGML v1.0//EN
CALSCALE:GREGORIAN
METHOD:PUBLISH
X-WR-CALNAME:Deutsch-Englische Gesellschaft Bayreuth e.V.
X-ORIGINAL-URL:http://deg-bayreuth.com
X-WR-CALDESC:Veranstaltungen für Deutsch-Englische Gesellschaft Bayreuth e.V.
REFRESH-INTERVAL;VALUE=DURATION:PT1H
X-Robots-Tag:noindex
X-PUBLISHED-TTL:PT1H
BEGIN:VTIMEZONE
TZID:UTC
BEGIN:STANDARD
TZOFFSETFROM:+0000
TZOFFSETTO:+0000
TZNAME:UTC
DTSTART:20240101T000000
END:STANDARD
END:VTIMEZONE
BEGIN:VEVENT
DTSTART;TZID=UTC:20251107T190000
DTEND;TZID=UTC:20251107T213000
DTSTAMP:20260419T172409
CREATED:20250223T134208Z
LAST-MODIFIED:20250223T134208Z
UID:420-1762542000-1762551000@deg-bayreuth.com
SUMMARY:Social Evening November
DESCRIPTION:The DEG Bayreuth Social Evening is a networking event that brings together members and friends of the Deutsch-Englische Gesellschaft Bayreuth e.V. in a relaxed and friendly atmosphere. It provides an opportunity to engage in lively discussions\, share cultural experiences\, and strengthen international connections over drinks and food. Whether you’re a long-time member or a newcomer\, the evening offers a welcoming space to enjoy good company and enriching conversations. \nWe usually meet at Brauereischänke in the heart of Bayreuth’s city centre every first Friday of the month – please check the calendar for possible changes. Join us!
URL:http://deg-bayreuth.com/event/social-evening-november/
LOCATION:Brauereischänke am Markt\, Bayreuth\, Maximilianstraße 56\, Bayreuth\, Bayern\, 95444\, Germany
CATEGORIES:Social Evening (monthly)
ATTACH;FMTTYPE=image/png:http://deg-bayreuth.com/wp-content/uploads/2025/02/instagram-post-foto-zitat.png
END:VEVENT
BEGIN:VEVENT
DTSTART;TZID=UTC:20251118T180000
DTEND;TZID=UTC:20251118T203000
DTSTAMP:20260419T172409
CREATED:20250223T135859Z
LAST-MODIFIED:20250223T140026Z
UID:435-1763488800-1763497800@deg-bayreuth.com
SUMMARY:Book Club Meeting November
DESCRIPTION:In the DEG Book Club’s November meeting we will discuss our latest pick from our September session and choose the next read! Come join us\, when we discuss what we are going to read next! Non-members are welcome!
URL:http://deg-bayreuth.com/event/book-club-meeting-november/
LOCATION:Bürgerbegegnungsstätte Bayreuth\, Am Sendelbach 1\, Bayreuth\, 95445\, Germany
CATEGORIES:book Club
ATTACH;FMTTYPE=image/png:http://deg-bayreuth.com/wp-content/uploads/2025/02/Kopie-von-DEG-1200-x-1200-px1.png
END:VEVENT
END:VCALENDAR