BEGIN:VCALENDAR
VERSION:2.0
PRODID:-//Deutsch-Englische Gesellschaft Bayreuth e.V. - ECPv6.15.20//NONSGML v1.0//EN
CALSCALE:GREGORIAN
METHOD:PUBLISH
X-WR-CALNAME:Deutsch-Englische Gesellschaft Bayreuth e.V.
X-ORIGINAL-URL:https://deg-bayreuth.com
X-WR-CALDESC:Veranstaltungen für Deutsch-Englische Gesellschaft Bayreuth e.V.
REFRESH-INTERVAL;VALUE=DURATION:PT1H
X-Robots-Tag:noindex
X-PUBLISHED-TTL:PT1H
BEGIN:VTIMEZONE
TZID:UTC
BEGIN:STANDARD
TZOFFSETFROM:+0000
TZOFFSETTO:+0000
TZNAME:UTC
DTSTART:20250101T000000
END:STANDARD
END:VTIMEZONE
BEGIN:VEVENT
DTSTART;TZID=UTC:20260421T183000
DTEND;TZID=UTC:20260421T203000
DTSTAMP:20260421T014112
CREATED:20260419T082506Z
LAST-MODIFIED:20260419T083610Z
UID:974-1776796200-1776803400@deg-bayreuth.com
SUMMARY:Book Club April
DESCRIPTION:Join us on Tuesday\, 21 April at 6:30 pm at the Bürgerbegegnungsstätte Bayreuth for our next Book Club meeting\, where we will be discussing What We Can Know by Ian McEwan. \n \nSpanning past and future\, the novel weaves together literary mystery\, speculative fiction\, and a deeply human exploration of memory\, relationships\, and truth. Moving between a near-future world shaped by climate change and the early 21st century\, the story centres on a puzzling poem and the lives it quietly entangles. As one character attempts to reconstruct its origins\, the narrative raises compelling questions about interpretation\, authorship\, and the reliability of what we think we know. \nAt its core\, What We Can Know reflects on the limits of knowledge itself: how accurately can we ever understand the past\, other people\, or even our own motivations? It also touches on themes of environmental responsibility\, hindsight\, and the ways in which societies remember — or misremember — their turning points. \nWhether you have read the book in full or are simply curious\, you are very welcome to join us. Expect a thoughtful and open discussion in a relaxed and friendly atmosphere. \nWe look forward to seeing you there. \n 
URL:https://deg-bayreuth.com/event/book-club-april/
LOCATION:Bürgerbegegnungsstätte Bayreuth\, Am Sendelbach 1\, Bayreuth\, 95445\, Germany
CATEGORIES:book Club
ATTACH;FMTTYPE=image/png:https://deg-bayreuth.com/wp-content/uploads/2026/04/Book-Club_Posts4.png
END:VEVENT
END:VCALENDAR